Package: geneplast Version: 1.30.0 Command: rm -rf geneplast.buildbin-libdir && mkdir geneplast.buildbin-libdir && E:\biocbuild\bbs-3.19-bioc\R\bin\R.exe CMD INSTALL --build --library=geneplast.buildbin-libdir geneplast_1.30.0.tar.gz StartedAt: 2024-10-17 07:50:41 -0400 (Thu, 17 Oct 2024) EndedAt: 2024-10-17 07:50:55 -0400 (Thu, 17 Oct 2024) EllapsedTime: 14.0 seconds RetCode: 0 Status: OK PackageFile: geneplast_1.30.0.zip PackageFileSize: 4.058 MiB