Package: geneplast Version: 1.30.0 Command: chmod a+r geneplast -R && F:\biocbuild\bbs-3.19-bioc\R\bin\R.exe CMD build --keep-empty-dirs --no-resave-data geneplast StartedAt: 2024-06-26 19:05:42 -0400 (Wed, 26 Jun 2024) EndedAt: 2024-06-26 19:06:29 -0400 (Wed, 26 Jun 2024) EllapsedTime: 46.7 seconds RetCode: 0 Status: OK PackageFile: geneplast_1.30.0.tar.gz PackageFileSize: 7.074 MiB