Package: geneplast Version: 1.30.0 Command: /Library/Frameworks/R.framework/Resources/bin/R CMD check --install=check:geneplast.install-out.txt --library=/Library/Frameworks/R.framework/Resources/library --no-vignettes --timings geneplast_1.30.0.tar.gz StartedAt: 2024-06-09 20:32:22 -0400 (Sun, 09 Jun 2024) EndedAt: 2024-06-09 20:33:17 -0400 (Sun, 09 Jun 2024) EllapsedTime: 55.6 seconds RetCode: 0 Status: OK CheckDir: geneplast.Rcheck Warnings: 0