Package: geneplast Version: 1.30.0 Command: /Library/Frameworks/R.framework/Resources/bin/R CMD build --keep-empty-dirs --no-resave-data geneplast StartedAt: 2024-06-09 16:44:52 -0400 (Sun, 09 Jun 2024) EndedAt: 2024-06-09 16:45:34 -0400 (Sun, 09 Jun 2024) EllapsedTime: 41.6 seconds RetCode: 0 Status: OK PackageFile: geneplast_1.30.0.tar.gz PackageFileSize: 7.073 MiB