Package: geneplast Version: 1.30.0 Command: /home/biocbuild/R/R-beta-2024-04-15_r86425/bin/R CMD build --keep-empty-dirs --no-resave-data geneplast StartedAt: 2024-05-09 00:28:12 -0000 (Thu, 09 May 2024) EndedAt: 2024-05-09 00:28:55 -0000 (Thu, 09 May 2024) EllapsedTime: 43.1 seconds RetCode: 0 Status: OK PackageFile: geneplast_1.30.0.tar.gz PackageFileSize: 7.121 MiB