Package: geneplast Version: 1.30.0 Command: /Library/Frameworks/R.framework/Resources/bin/R CMD build --keep-empty-dirs --no-resave-data geneplast StartedAt: 2024-10-17 01:00:56 -0400 (Thu, 17 Oct 2024) EndedAt: 2024-10-17 01:01:50 -0400 (Thu, 17 Oct 2024) EllapsedTime: 53.2 seconds RetCode: 0 Status: OK PackageFile: geneplast_1.30.0.tar.gz PackageFileSize: 7.074 MiB