Package: genefu Version: 2.36.0 Command: chmod a+r genefu -R && E:\biocbuild\bbs-3.19-bioc\R\bin\R.exe CMD build --keep-empty-dirs --no-resave-data genefu StartedAt: 2024-10-16 19:21:05 -0400 (Wed, 16 Oct 2024) EndedAt: 2024-10-16 19:22:53 -0400 (Wed, 16 Oct 2024) EllapsedTime: 107.6 seconds RetCode: 0 Status: OK PackageFile: genefu_2.36.0.tar.gz PackageFileSize: 4.636 MiB