Package: genefu Version: 2.36.0 Command: rm -rf genefu.buildbin-libdir && mkdir genefu.buildbin-libdir && E:\biocbuild\bbs-3.19-bioc\R\bin\R.exe CMD INSTALL --build --library=genefu.buildbin-libdir genefu_2.36.0.tar.gz StartedAt: 2024-10-17 07:50:28 -0400 (Thu, 17 Oct 2024) EndedAt: 2024-10-17 07:51:10 -0400 (Thu, 17 Oct 2024) EllapsedTime: 41.3 seconds RetCode: 0 Status: OK PackageFile: genefu_2.36.0.zip PackageFileSize: 4.937 MiB