Package: genefu Version: 2.36.0 Command: /Library/Frameworks/R.framework/Resources/bin/R CMD build --keep-empty-dirs --no-resave-data genefu StartedAt: 2024-10-16 19:27:12 -0400 (Wed, 16 Oct 2024) EndedAt: 2024-10-16 19:29:52 -0400 (Wed, 16 Oct 2024) EllapsedTime: 160.2 seconds RetCode: 0 Status: OK PackageFile: genefu_2.36.0.tar.gz PackageFileSize: 4.891 MiB