Package: geneXtendeR Version: 1.30.0 Command: rm -rf geneXtendeR.buildbin-libdir && mkdir geneXtendeR.buildbin-libdir && /Users/biocbuild/BBS/utils/build-universal.sh geneXtendeR_1.30.0.tar.gz /Library/Frameworks/R.framework/Resources/bin/R geneXtendeR.buildbin-libdir StartedAt: 2024-10-17 16:14:08 -0400 (Thu, 17 Oct 2024) EndedAt: 2024-10-17 16:16:12 -0400 (Thu, 17 Oct 2024) EllapsedTime: 123.6 seconds RetCode: 0 Status: OK PackageFile: geneXtendeR_1.30.0.tgz PackageFileSize: 8.51 MiB