Package: geneXtendeR Version: 1.30.0 Command: /Library/Frameworks/R.framework/Resources/bin/R CMD build --keep-empty-dirs --no-resave-data geneXtendeR StartedAt: 2024-06-09 22:00:00 -0400 (Sun, 09 Jun 2024) EndedAt: 2024-06-09 22:00:13 -0400 (Sun, 09 Jun 2024) EllapsedTime: 12.3 seconds RetCode: 0 Status: OK PackageFile: geneXtendeR_1.30.0.tar.gz PackageFileSize: 11.74 MiB