Package: geneXtendeR Version: 1.30.0 Command: /Library/Frameworks/R.framework/Resources/bin/R CMD build --keep-empty-dirs --no-resave-data geneXtendeR StartedAt: 2024-10-17 01:03:23 -0400 (Thu, 17 Oct 2024) EndedAt: 2024-10-17 01:03:29 -0400 (Thu, 17 Oct 2024) EllapsedTime: 5.8 seconds RetCode: 0 Status: OK PackageFile: geneXtendeR_1.30.0.tar.gz PackageFileSize: 11.74 MiB