Package: geneXtendeR Version: 1.30.0 Command: rm -rf geneXtendeR.buildbin-libdir && mkdir geneXtendeR.buildbin-libdir && /Users/biocbuild/BBS/utils/build-universal.sh geneXtendeR_1.30.0.tar.gz /Library/Frameworks/R.framework/Resources/bin/R geneXtendeR.buildbin-libdir StartedAt: 2024-10-18 18:39:01 -0400 (Fri, 18 Oct 2024) EndedAt: 2024-10-18 18:40:19 -0400 (Fri, 18 Oct 2024) EllapsedTime: 77.3 seconds RetCode: 0 Status: OK PackageFile: geneXtendeR_1.30.0.tgz PackageFileSize: 8.51 MiB