Package: geneRxCluster Version: 1.40.0 Command: rm -rf geneRxCluster.buildbin-libdir && mkdir geneRxCluster.buildbin-libdir && /Users/biocbuild/BBS/utils/build-universal.sh geneRxCluster_1.40.0.tar.gz /Library/Frameworks/R.framework/Resources/bin/R geneRxCluster.buildbin-libdir StartedAt: 2024-06-10 00:19:33 -0400 (Mon, 10 Jun 2024) EndedAt: 2024-06-10 00:19:50 -0400 (Mon, 10 Jun 2024) EllapsedTime: 17.0 seconds RetCode: 0 Status: OK PackageFile: geneRxCluster_1.40.0.tgz PackageFileSize: 337.3 KiB