Package: geneRecommender Version: 1.76.0 Command: rm -rf geneRecommender.buildbin-libdir && mkdir geneRecommender.buildbin-libdir && /Users/biocbuild/BBS/utils/build-universal.sh geneRecommender_1.76.0.tar.gz /Library/Frameworks/R.framework/Resources/bin/R geneRecommender.buildbin-libdir StartedAt: 2024-10-17 16:13:35 -0400 (Thu, 17 Oct 2024) EndedAt: 2024-10-17 16:13:44 -0400 (Thu, 17 Oct 2024) EllapsedTime: 8.8 seconds RetCode: 0 Status: OK PackageFile: geneRecommender_1.76.0.tgz PackageFileSize: 263.4 KiB