Package: geneRecommender Version: 1.76.0 Command: /Library/Frameworks/R.framework/Resources/bin/R CMD build --keep-empty-dirs --no-resave-data geneRecommender StartedAt: 2024-10-17 01:01:35 -0400 (Thu, 17 Oct 2024) EndedAt: 2024-10-17 01:01:47 -0400 (Thu, 17 Oct 2024) EllapsedTime: 12.3 seconds RetCode: 0 Status: OK PackageFile: geneRecommender_1.76.0.tar.gz PackageFileSize: 239.7 KiB