Package: geneRecommender Version: 1.76.0 Command: rm -rf geneRecommender.buildbin-libdir && mkdir geneRecommender.buildbin-libdir && /Users/biocbuild/BBS/utils/build-universal.sh geneRecommender_1.76.0.tar.gz /Library/Frameworks/R.framework/Resources/bin/R geneRecommender.buildbin-libdir StartedAt: 2024-10-18 18:38:23 -0400 (Fri, 18 Oct 2024) EndedAt: 2024-10-18 18:38:29 -0400 (Fri, 18 Oct 2024) EllapsedTime: 5.6 seconds RetCode: 0 Status: OK PackageFile: geneRecommender_1.76.0.tgz PackageFileSize: 263.3 KiB