Package: geneClassifiers Version: 1.28.0 Command: /Library/Frameworks/R.framework/Resources/bin/R CMD check --install=check:geneClassifiers.install-out.txt --library=/Library/Frameworks/R.framework/Resources/library --no-vignettes --timings geneClassifiers_1.28.0.tar.gz StartedAt: 2024-06-10 16:32:19 -0400 (Mon, 10 Jun 2024) EndedAt: 2024-06-10 16:33:17 -0400 (Mon, 10 Jun 2024) EllapsedTime: 58.3 seconds RetCode: 0 Status: OK CheckDir: geneClassifiers.Rcheck Warnings: 0