Package: geneClassifiers Version: 1.28.0 Maintainer: R Kuiper MaintainerEmail: r.kuiper.emc at gmail.com git_url: https://git.bioconductor.org/packages/geneClassifiers git_branch: RELEASE_3_19 git_last_commit: b5d8c4d git_last_commit_date: 2024-04-30 10:56:16 -0400 (Tue, 30 Apr 2024)