Package: geneAttribution Version: 1.30.0 Command: rm -rf geneAttribution.buildbin-libdir && mkdir geneAttribution.buildbin-libdir && E:\biocbuild\bbs-3.19-bioc\R\bin\R.exe CMD INSTALL --build --library=geneAttribution.buildbin-libdir geneAttribution_1.30.0.tar.gz StartedAt: 2024-10-17 07:50:11 -0400 (Thu, 17 Oct 2024) EndedAt: 2024-10-17 07:51:03 -0400 (Thu, 17 Oct 2024) EllapsedTime: 52.3 seconds RetCode: 0 Status: OK PackageFile: geneAttribution_1.30.0.zip PackageFileSize: 68.84 KiB