Package: geneAttribution Version: 1.30.0 Command: F:\biocbuild\bbs-3.19-bioc\R\bin\R.exe CMD check --no-multiarch --install=check:geneAttribution.install-out.txt --library=F:\biocbuild\bbs-3.19-bioc\R\library --no-vignettes --timings geneAttribution_1.30.0.tar.gz StartedAt: 2024-06-27 01:54:24 -0400 (Thu, 27 Jun 2024) EndedAt: 2024-06-27 01:59:21 -0400 (Thu, 27 Jun 2024) EllapsedTime: 296.1 seconds RetCode: 0 Status: OK CheckDir: geneAttribution.Rcheck Warnings: 0