Package: geneAttribution Version: 1.30.0 Command: chmod a+r geneAttribution -R && F:\biocbuild\bbs-3.19-bioc\R\bin\R.exe CMD build --keep-empty-dirs --no-resave-data geneAttribution StartedAt: 2024-06-26 19:04:55 -0400 (Wed, 26 Jun 2024) EndedAt: 2024-06-26 19:05:34 -0400 (Wed, 26 Jun 2024) EllapsedTime: 39.1 seconds RetCode: 0 Status: OK PackageFile: geneAttribution_1.30.0.tar.gz PackageFileSize: 39.19 KiB