Package: geneAttribution Version: 1.30.0 Command: rm -rf geneAttribution.buildbin-libdir && mkdir geneAttribution.buildbin-libdir && /Users/biocbuild/BBS/utils/build-universal.sh geneAttribution_1.30.0.tar.gz /Library/Frameworks/R.framework/Resources/bin/R geneAttribution.buildbin-libdir StartedAt: 2024-10-17 16:13:12 -0400 (Thu, 17 Oct 2024) EndedAt: 2024-10-17 16:14:34 -0400 (Thu, 17 Oct 2024) EllapsedTime: 81.8 seconds RetCode: 0 Status: OK PackageFile: geneAttribution_1.30.0.tgz PackageFileSize: 63.62 KiB