Package: geneAttribution Version: 1.30.0 Command: rm -rf geneAttribution.buildbin-libdir && mkdir geneAttribution.buildbin-libdir && /Users/biocbuild/BBS/utils/build-universal.sh geneAttribution_1.30.0.tar.gz /Library/Frameworks/R.framework/Resources/bin/R geneAttribution.buildbin-libdir StartedAt: 2024-10-18 18:37:25 -0400 (Fri, 18 Oct 2024) EndedAt: 2024-10-18 18:38:14 -0400 (Fri, 18 Oct 2024) EllapsedTime: 48.8 seconds RetCode: 0 Status: OK PackageFile: geneAttribution_1.30.0.tgz PackageFileSize: 63.67 KiB