Package: genArise Version: 1.80.0 Command: chmod a+r genArise -R && F:\biocbuild\bbs-3.19-bioc\R\bin\R.exe CMD build --keep-empty-dirs --no-resave-data genArise StartedAt: 2024-06-26 19:04:54 -0400 (Wed, 26 Jun 2024) EndedAt: 2024-06-26 19:05:14 -0400 (Wed, 26 Jun 2024) EllapsedTime: 19.5 seconds RetCode: 0 Status: OK PackageFile: genArise_1.80.0.tar.gz PackageFileSize: 843.5 KiB