Package: genArise Version: 1.80.0 Command: rm -rf genArise.buildbin-libdir && mkdir genArise.buildbin-libdir && F:\biocbuild\bbs-3.19-bioc\R\bin\R.exe CMD INSTALL --build --library=genArise.buildbin-libdir genArise_1.80.0.tar.gz StartedAt: 2024-06-27 08:15:14 -0400 (Thu, 27 Jun 2024) EndedAt: 2024-06-27 08:15:40 -0400 (Thu, 27 Jun 2024) EllapsedTime: 26.9 seconds RetCode: 0 Status: OK PackageFile: genArise_1.80.0.zip PackageFileSize: 1.047 MiB