Package: genArise Version: 1.80.0 Command: /home/biocbuild/bbs-3.19-bioc/R/bin/R CMD INSTALL genArise StartedAt: 2024-10-16 15:51:50 -0400 (Wed, 16 Oct 2024) EndedAt: 2024-10-16 15:52:05 -0400 (Wed, 16 Oct 2024) EllapsedTime: 14.9 seconds RetCode: 0 Status: OK