Package: genArise Version: 1.80.0 Command: rm -rf genArise.buildbin-libdir && mkdir genArise.buildbin-libdir && /Users/biocbuild/BBS/utils/build-universal.sh genArise_1.80.0.tar.gz /Library/Frameworks/R.framework/Resources/bin/R genArise.buildbin-libdir StartedAt: 2024-06-10 00:19:21 -0400 (Mon, 10 Jun 2024) EndedAt: 2024-06-10 00:19:34 -0400 (Mon, 10 Jun 2024) EllapsedTime: 13.6 seconds RetCode: 0 Status: OK PackageFile: genArise_1.80.0.tgz PackageFileSize: 1.24 MiB