Package: genArise Version: 1.80.0 Command: /home/biocbuild/R/R-beta-2024-04-15_r86425/bin/R CMD build --keep-empty-dirs --no-resave-data genArise StartedAt: 2024-05-09 00:27:16 -0000 (Thu, 09 May 2024) EndedAt: 2024-05-09 00:27:29 -0000 (Thu, 09 May 2024) EllapsedTime: 13.0 seconds RetCode: 0 Status: OK PackageFile: genArise_1.80.0.tar.gz PackageFileSize: 1.008 MiB