Package: genArise Version: 1.80.0 Command: /Library/Frameworks/R.framework/Resources/bin/R CMD build --keep-empty-dirs --no-resave-data genArise StartedAt: 2024-06-09 21:55:46 -0400 (Sun, 09 Jun 2024) EndedAt: 2024-06-09 21:56:11 -0400 (Sun, 09 Jun 2024) EllapsedTime: 25.3 seconds RetCode: 0 Status: OK PackageFile: genArise_1.80.0.tar.gz PackageFileSize: 1.023 MiB