Package: genArise Version: 1.80.0 Command: /Library/Frameworks/R.framework/Resources/bin/R CMD build --keep-empty-dirs --no-resave-data genArise StartedAt: 2024-10-17 00:57:29 -0400 (Thu, 17 Oct 2024) EndedAt: 2024-10-17 00:57:47 -0400 (Thu, 17 Oct 2024) EllapsedTime: 17.1 seconds RetCode: 0 Status: OK PackageFile: genArise_1.80.0.tar.gz PackageFileSize: 1.023 MiB