Package: genArise Version: 1.80.0 Maintainer: IFC Development Team MaintainerEmail: info-genarise at ifc.unam.mx git_url: https://git.bioconductor.org/packages/genArise git_branch: RELEASE_3_19 git_last_commit: c8534b0 git_last_commit_date: 2024-04-30 10:13:00 -0400 (Tue, 30 Apr 2024)