Package: gemma.R Version: 3.0.14 Command: chmod a+r gemma.R -R && E:\biocbuild\bbs-3.19-bioc\R\bin\R.exe CMD build --keep-empty-dirs --no-resave-data gemma.R StartedAt: 2024-10-16 19:20:33 -0400 (Wed, 16 Oct 2024) EndedAt: 2024-10-16 19:28:07 -0400 (Wed, 16 Oct 2024) EllapsedTime: 453.9 seconds RetCode: 0 Status: OK PackageFile: gemma.R_3.0.14.tar.gz PackageFileSize: 1.671 MiB