Package: gemma.R Version: 3.0.8 Command: chmod a+r gemma.R -R && F:\biocbuild\bbs-3.19-bioc\R\bin\R.exe CMD build --keep-empty-dirs --no-resave-data gemma.R StartedAt: 2024-06-26 19:04:53 -0400 (Wed, 26 Jun 2024) EndedAt: 2024-06-26 19:13:50 -0400 (Wed, 26 Jun 2024) EllapsedTime: 537.0 seconds RetCode: 0 Status: OK PackageFile: gemma.R_3.0.8.tar.gz PackageFileSize: 1.662 MiB