Package: gemma.R Version: 3.0.14 Command: /home/biocbuild/bbs-3.19-bioc/R/bin/R CMD build --keep-empty-dirs --no-resave-data gemma.R StartedAt: 2024-10-16 18:36:59 -0400 (Wed, 16 Oct 2024) EndedAt: 2024-10-16 18:41:43 -0400 (Wed, 16 Oct 2024) EllapsedTime: 283.6 seconds RetCode: 0 Status: OK PackageFile: gemma.R_3.0.14.tar.gz PackageFileSize: 1.986 MiB