Package: gemma.R Version: 3.0.6 Command: rm -rf gemma.R.buildbin-libdir && mkdir gemma.R.buildbin-libdir && /Users/biocbuild/BBS/utils/build-universal.sh gemma.R_3.0.6.tar.gz /Library/Frameworks/R.framework/Resources/bin/R gemma.R.buildbin-libdir StartedAt: 2024-06-10 00:19:17 -0400 (Mon, 10 Jun 2024) EndedAt: 2024-06-10 00:19:27 -0400 (Mon, 10 Jun 2024) EllapsedTime: 10.0 seconds RetCode: 0 Status: OK PackageFile: gemma.R_3.0.6.tgz PackageFileSize: 2.237 MiB