Package: gemma.R Version: 3.0.6 Command: /Library/Frameworks/R.framework/Resources/bin/R CMD build --keep-empty-dirs --no-resave-data gemma.R StartedAt: 2024-06-09 21:55:36 -0400 (Sun, 09 Jun 2024) EndedAt: 2024-06-09 22:01:18 -0400 (Sun, 09 Jun 2024) EllapsedTime: 342.3 seconds RetCode: 0 Status: OK PackageFile: gemma.R_3.0.6.tar.gz PackageFileSize: 2.092 MiB