Package: gemma.R Version: 3.0.14 Command: /Library/Frameworks/R.framework/Resources/bin/R CMD INSTALL gemma.R StartedAt: 2024-10-16 16:53:21 -0400 (Wed, 16 Oct 2024) EndedAt: 2024-10-16 16:53:27 -0400 (Wed, 16 Oct 2024) EllapsedTime: 6.9 seconds RetCode: 0 Status: OK