Package: gemma.R Version: 3.0.14 Command: rm -rf gemma.R.buildbin-libdir && mkdir gemma.R.buildbin-libdir && /Users/biocbuild/BBS/utils/build-universal.sh gemma.R_3.0.14.tar.gz /Library/Frameworks/R.framework/Resources/bin/R gemma.R.buildbin-libdir StartedAt: 2024-10-18 18:37:16 -0400 (Fri, 18 Oct 2024) EndedAt: 2024-10-18 18:37:25 -0400 (Fri, 18 Oct 2024) EllapsedTime: 9.0 seconds RetCode: 0 Status: OK PackageFile: gemma.R_3.0.14.tgz PackageFileSize: 2.271 MiB