Package: gemini Version: 1.18.0 Command: /Library/Frameworks/R.framework/Resources/bin/R CMD check --install=check:gemini.install-out.txt --library=/Library/Frameworks/R.framework/Resources/library --no-vignettes --timings gemini_1.18.0.tar.gz StartedAt: 2024-10-17 05:40:27 -0400 (Thu, 17 Oct 2024) EndedAt: 2024-10-17 05:46:10 -0400 (Thu, 17 Oct 2024) EllapsedTime: 343.2 seconds RetCode: 0 Status: OK CheckDir: gemini.Rcheck Warnings: 0