Package: gemini Version: 1.18.0 Command: rm -rf gemini.buildbin-libdir && mkdir gemini.buildbin-libdir && /Users/biocbuild/BBS/utils/build-universal.sh gemini_1.18.0.tar.gz /Library/Frameworks/R.framework/Resources/bin/R gemini.buildbin-libdir StartedAt: 2024-06-10 00:19:16 -0400 (Mon, 10 Jun 2024) EndedAt: 2024-06-10 00:19:33 -0400 (Mon, 10 Jun 2024) EllapsedTime: 16.9 seconds RetCode: 0 Status: OK PackageFile: gemini_1.18.0.tgz PackageFileSize: 4.226 MiB