Package: gemini Version: 1.18.0 Command: rm -rf gemini.buildbin-libdir && mkdir gemini.buildbin-libdir && /Users/biocbuild/BBS/utils/build-universal.sh gemini_1.18.0.tar.gz /Library/Frameworks/R.framework/Resources/bin/R gemini.buildbin-libdir StartedAt: 2024-06-11 11:20:28 -0400 (Tue, 11 Jun 2024) EndedAt: 2024-06-11 11:20:46 -0400 (Tue, 11 Jun 2024) EllapsedTime: 17.5 seconds RetCode: 0 Status: OK PackageFile: gemini_1.18.0.tgz PackageFileSize: 4.227 MiB