Package: gemini Version: 1.18.0 Command: /Library/Frameworks/R.framework/Resources/bin/R CMD build --keep-empty-dirs --no-resave-data gemini StartedAt: 2024-10-17 00:56:46 -0400 (Thu, 17 Oct 2024) EndedAt: 2024-10-17 00:57:18 -0400 (Thu, 17 Oct 2024) EllapsedTime: 32.1 seconds RetCode: 0 Status: OK PackageFile: gemini_1.18.0.tar.gz PackageFileSize: 4.113 MiB