Package: geNetClassifier Version: 1.44.0 Command: chmod a+r geNetClassifier -R && F:\biocbuild\bbs-3.19-bioc\R\bin\R.exe CMD build --keep-empty-dirs --no-resave-data geNetClassifier StartedAt: 2024-06-26 19:06:33 -0400 (Wed, 26 Jun 2024) EndedAt: 2024-06-26 19:07:07 -0400 (Wed, 26 Jun 2024) EllapsedTime: 34.8 seconds RetCode: 0 Status: OK PackageFile: geNetClassifier_1.44.0.tar.gz PackageFileSize: 3.688 MiB