Package: geNetClassifier Version: 1.44.0 Command: rm -rf geNetClassifier.buildbin-libdir && mkdir geNetClassifier.buildbin-libdir && /Users/biocbuild/BBS/utils/build-universal.sh geNetClassifier_1.44.0.tar.gz /Library/Frameworks/R.framework/Resources/bin/R geNetClassifier.buildbin-libdir StartedAt: 2024-06-11 11:22:06 -0400 (Tue, 11 Jun 2024) EndedAt: 2024-06-11 11:22:23 -0400 (Tue, 11 Jun 2024) EllapsedTime: 17.4 seconds RetCode: 0 Status: OK PackageFile: geNetClassifier_1.44.0.tgz PackageFileSize: 3.238 MiB