Package: gdsfmt Version: 1.40.2 Command: E:\biocbuild\bbs-3.19-bioc\R\bin\R.exe CMD INSTALL gdsfmt StartedAt: 2024-10-16 15:58:33 -0400 (Wed, 16 Oct 2024) EndedAt: 2024-10-16 16:02:12 -0400 (Wed, 16 Oct 2024) EllapsedTime: 219.7 seconds RetCode: 0 Status: OK