Package: gdsfmt Version: 1.40.2 Command: chmod a+r gdsfmt -R && E:\biocbuild\bbs-3.19-bioc\R\bin\R.exe CMD build --keep-empty-dirs --no-resave-data gdsfmt StartedAt: 2024-10-16 19:20:12 -0400 (Wed, 16 Oct 2024) EndedAt: 2024-10-16 19:24:23 -0400 (Wed, 16 Oct 2024) EllapsedTime: 251.1 seconds RetCode: 0 Status: OK PackageFile: gdsfmt_1.40.2.tar.gz PackageFileSize: 2.966 MiB