Package: gdsfmt Version: 1.40.0 Command: chmod a+r gdsfmt -R && F:\biocbuild\bbs-3.19-bioc\R\bin\R.exe CMD build --keep-empty-dirs --no-resave-data gdsfmt StartedAt: 2024-06-26 19:04:21 -0400 (Wed, 26 Jun 2024) EndedAt: 2024-06-26 19:08:24 -0400 (Wed, 26 Jun 2024) EllapsedTime: 242.3 seconds RetCode: 0 Status: OK PackageFile: gdsfmt_1.40.0.tar.gz PackageFileSize: 2.966 MiB