Package: gdsfmt Version: 1.40.0 Command: rm -rf gdsfmt.buildbin-libdir && mkdir gdsfmt.buildbin-libdir && F:\biocbuild\bbs-3.19-bioc\R\bin\R.exe CMD INSTALL --build --library=gdsfmt.buildbin-libdir gdsfmt_1.40.0.tar.gz StartedAt: 2024-06-27 08:15:04 -0400 (Thu, 27 Jun 2024) EndedAt: 2024-06-27 08:19:41 -0400 (Thu, 27 Jun 2024) EllapsedTime: 277.5 seconds RetCode: 0 Status: OK PackageFile: gdsfmt_1.40.0.zip PackageFileSize: 1.805 MiB