Package: gdsfmt Version: 1.40.2 Command: /home/biocbuild/bbs-3.19-bioc/R/bin/R CMD INSTALL gdsfmt StartedAt: 2024-10-16 15:49:13 -0400 (Wed, 16 Oct 2024) EndedAt: 2024-10-16 15:52:36 -0400 (Wed, 16 Oct 2024) EllapsedTime: 202.6 seconds RetCode: 0 Status: OK